BEGIN:VCALENDAR
VERSION:2.0
PRODID:FESTAS EM HONRA DA NOSSA SENHORA DO ROSÁRIO
X-WR-CALNAME:FESTAS EM HONRA DA NOSSA SENHORA DO ROSÁRIO
X-WR-TIMEZONE:Europe/Lisbon
X-PUBLISHED-TTL:P1W
BEGIN:VTIMEZONE
TZID:Europe/Lisbon
X-LIC-LOCATION:Europe/Lisbon
END:VTIMEZONE
BEGIN:VEVENT
UID:69e5e62da6a15
DTSTART;VALUE=DATE:20230818
SEQUENCE:0
TRANSP:OPAQUE
DTEND;VALUE=DATE:20230819
SUMMARY:FESTAS EM HONRA DA NOSSA SENHORA DO ROSÁRIO
CLASS:PUBLIC
DESCRIPTION:Venha às festas Murtais em honra da nossa Senhora do Rosário
X-MICROSOFT-CDO-ALLDAYEVENT:TRUE
DTSTAMP:20260420T083909Z
END:VEVENT
END:VCALENDAR